Package: CRImage Version: 1.57.0 Command: F:\biocbuild\bbs-3.22-bioc\R\bin\R.exe CMD INSTALL CRImage StartedAt: 2025-07-04 16:09:43 -0400 (Fri, 04 Jul 2025) EndedAt: 2025-07-04 16:10:08 -0400 (Fri, 04 Jul 2025) EllapsedTime: 24.9 seconds RetCode: 0 Status: OK