Package: CRImage Version: 1.57.0 Command: rm -rf CRImage.buildbin-libdir && mkdir CRImage.buildbin-libdir && F:\biocbuild\bbs-3.22-bioc\R\bin\R.exe CMD INSTALL --build --library=CRImage.buildbin-libdir CRImage_1.57.0.tar.gz StartedAt: 2025-07-05 08:38:55 -0400 (Sat, 05 Jul 2025) EndedAt: 2025-07-05 08:39:21 -0400 (Sat, 05 Jul 2025) EllapsedTime: 26.6 seconds RetCode: 0 Status: OK PackageFile: CRImage_1.57.0.zip PackageFileSize: 6.459 MiB