Package: CRImage Version: 1.57.0 Command: /Library/Frameworks/R.framework/Resources/bin/R CMD INSTALL CRImage StartedAt: 2025-06-29 15:14:05 -0400 (Sun, 29 Jun 2025) EndedAt: 2025-06-29 15:14:20 -0400 (Sun, 29 Jun 2025) EllapsedTime: 15.9 seconds RetCode: 0 Status: OK