Package: CRImage Version: 1.57.0 Command: /Library/Frameworks/R.framework/Resources/bin/R CMD check --install=check:CRImage.install-out.txt --library=/Library/Frameworks/R.framework/Resources/library --no-vignettes --timings CRImage_1.57.0.tar.gz StartedAt: 2025-06-29 19:49:14 -0400 (Sun, 29 Jun 2025) EndedAt: 2025-06-29 19:50:42 -0400 (Sun, 29 Jun 2025) EllapsedTime: 88.1 seconds RetCode: 0 Status: OK CheckDir: CRImage.Rcheck Warnings: 0