Package: CRImage Version: 1.57.0 Command: /Library/Frameworks/R.framework/Resources/bin/R CMD build --keep-empty-dirs --no-resave-data CRImage StartedAt: 2025-06-29 16:23:03 -0400 (Sun, 29 Jun 2025) EndedAt: 2025-06-29 16:23:32 -0400 (Sun, 29 Jun 2025) EllapsedTime: 28.4 seconds RetCode: 0 Status: OK PackageFile: CRImage_1.57.0.tar.gz PackageFileSize: 7.65 MiB