Package: CRImage Version: 1.57.0 Command: /Library/Frameworks/R.framework/Resources/bin/R CMD INSTALL CRImage StartedAt: 2025-07-01 15:06:48 -0400 (Tue, 01 Jul 2025) EndedAt: 2025-07-01 15:06:52 -0400 (Tue, 01 Jul 2025) EllapsedTime: 4.2 seconds RetCode: 0 Status: OK