Package: CRImage Version: 1.57.0 Command: /Library/Frameworks/R.framework/Resources/bin/R CMD build --keep-empty-dirs --no-resave-data CRImage StartedAt: 2025-07-01 15:58:32 -0400 (Tue, 01 Jul 2025) EndedAt: 2025-07-01 15:58:44 -0400 (Tue, 01 Jul 2025) EllapsedTime: 11.1 seconds RetCode: 0 Status: OK PackageFile: CRImage_1.57.0.tar.gz PackageFileSize: 7.651 MiB