Package: CRISPRseek Version: 1.49.0 Command: /home/biocbuild/bbs-3.22-bioc/R/bin/R CMD INSTALL CRISPRseek StartedAt: 2025-06-30 15:38:40 -0400 (Mon, 30 Jun 2025) EndedAt: 2025-06-30 15:39:26 -0400 (Mon, 30 Jun 2025) EllapsedTime: 46.5 seconds RetCode: 0 Status: OK