Package: CRISPRseek Version: 1.49.0 Command: /home/biocbuild/bbs-3.22-bioc/R/bin/R CMD check --install=check:CRISPRseek.install-out.txt --library=/home/biocbuild/bbs-3.22-bioc/R/site-library --timings CRISPRseek_1.49.0.tar.gz StartedAt: 2025-06-30 21:16:49 -0400 (Mon, 30 Jun 2025) EndedAt: 2025-06-30 21:44:25 -0400 (Mon, 30 Jun 2025) EllapsedTime: 1655.6 seconds RetCode: 0 Status: OK CheckDir: CRISPRseek.Rcheck Warnings: 0