Package: CRISPRseek Version: 1.49.0 Command: /Library/Frameworks/R.framework/Resources/bin/R CMD INSTALL CRISPRseek StartedAt: 2025-07-01 15:46:08 -0400 (Tue, 01 Jul 2025) EndedAt: 2025-07-01 15:47:02 -0400 (Tue, 01 Jul 2025) EllapsedTime: 54.0 seconds RetCode: 0 Status: OK