Package: CRISPRseek Version: 1.49.0 Command: /Library/Frameworks/R.framework/Resources/bin/R CMD check --install=check:CRISPRseek.install-out.txt --library=/Library/Frameworks/R.framework/Resources/library --no-vignettes --timings CRISPRseek_1.49.0.tar.gz StartedAt: 2025-07-02 19:53:58 -0400 (Wed, 02 Jul 2025) EndedAt: 2025-07-02 20:23:57 -0400 (Wed, 02 Jul 2025) EllapsedTime: 1799.1 seconds RetCode: 0 Status: OK CheckDir: CRISPRseek.Rcheck Warnings: 0