Package: CRISPRseek Version: 1.49.0 Command: rm -rf CRISPRseek.buildbin-libdir && mkdir CRISPRseek.buildbin-libdir && /Users/biocbuild/BBS/utils/build-universal.sh CRISPRseek_1.49.0.tar.gz /Library/Frameworks/R.framework/Resources/bin/R CRISPRseek.buildbin-libdir StartedAt: 2025-07-02 00:52:26 -0400 (Wed, 02 Jul 2025) EndedAt: 2025-07-02 00:53:27 -0400 (Wed, 02 Jul 2025) EllapsedTime: 61.2 seconds RetCode: 0 Status: OK PackageFile: CRISPRseek_1.49.0.tgz PackageFileSize: 12.12 MiB