Package: CRISPRseek Version: 1.49.0 Command: /Library/Frameworks/R.framework/Resources/bin/R CMD INSTALL CRISPRseek StartedAt: 2025-07-01 15:19:43 -0400 (Tue, 01 Jul 2025) EndedAt: 2025-07-01 15:19:59 -0400 (Tue, 01 Jul 2025) EllapsedTime: 16.6 seconds RetCode: 0 Status: OK