Package: CRISPRseek Version: 1.49.0 Command: /Library/Frameworks/R.framework/Resources/bin/R CMD check --install=check:CRISPRseek.install-out.txt --library=/Library/Frameworks/R.framework/Resources/library --no-vignettes --timings CRISPRseek_1.49.0.tar.gz StartedAt: 2025-07-01 18:42:57 -0400 (Tue, 01 Jul 2025) EndedAt: 2025-07-01 18:55:06 -0400 (Tue, 01 Jul 2025) EllapsedTime: 728.6 seconds RetCode: 0 Status: OK CheckDir: CRISPRseek.Rcheck Warnings: 0