Package: CRISPRseek Version: 1.49.0 Command: /Library/Frameworks/R.framework/Resources/bin/R CMD build --keep-empty-dirs --no-resave-data CRISPRseek StartedAt: 2025-07-01 15:58:52 -0400 (Tue, 01 Jul 2025) EndedAt: 2025-07-01 15:59:57 -0400 (Tue, 01 Jul 2025) EllapsedTime: 65.8 seconds RetCode: 0 Status: OK PackageFile: CRISPRseek_1.49.0.tar.gz PackageFileSize: 11.84 MiB