Package: CRISPRball Version: 1.5.0 Command: F:\biocbuild\bbs-3.22-bioc\R\bin\R.exe CMD INSTALL CRISPRball StartedAt: 2025-07-20 16:53:01 -0400 (Sun, 20 Jul 2025) EndedAt: 2025-07-20 16:54:00 -0400 (Sun, 20 Jul 2025) EllapsedTime: 58.8 seconds RetCode: 0 Status: OK