Package: CRISPRball Version: 1.5.0 Command: F:\biocbuild\bbs-3.22-bioc\R\bin\R.exe CMD check --no-multiarch --install=check:CRISPRball.install-out.txt --library=F:\biocbuild\bbs-3.22-bioc\R\library --no-vignettes --timings CRISPRball_1.5.0.tar.gz StartedAt: 2025-07-22 00:54:55 -0400 (Tue, 22 Jul 2025) EndedAt: 2025-07-22 01:00:32 -0400 (Tue, 22 Jul 2025) EllapsedTime: 336.6 seconds RetCode: 0 Status: OK CheckDir: CRISPRball.Rcheck Warnings: 0