Package: CRISPRball Version: 1.5.0 Command: chmod a+r CRISPRball -R && F:\biocbuild\bbs-3.22-bioc\R\bin\R.exe CMD build --keep-empty-dirs --no-resave-data CRISPRball StartedAt: 2025-07-20 18:13:00 -0400 (Sun, 20 Jul 2025) EndedAt: 2025-07-20 18:13:59 -0400 (Sun, 20 Jul 2025) EllapsedTime: 58.7 seconds RetCode: 0 Status: OK PackageFile: CRISPRball_1.5.0.tar.gz PackageFileSize: 2.614 MiB