Package: CRISPRball Version: 1.5.0 Command: /Library/Frameworks/R.framework/Resources/bin/R CMD build --keep-empty-dirs --no-resave-data CRISPRball StartedAt: 2025-10-05 16:33:54 -0400 (Sun, 05 Oct 2025) EndedAt: 2025-10-05 16:34:42 -0400 (Sun, 05 Oct 2025) EllapsedTime: 48.0 seconds RetCode: 0 Status: OK PackageFile: CRISPRball_1.5.0.tar.gz PackageFileSize: 2.614 MiB