Package: CPSM Version: 1.1.2 Command: /home/biocbuild/R/R/bin/R CMD build --keep-empty-dirs --no-resave-data CPSM StartedAt: 2025-06-26 22:48:43 -0000 (Thu, 26 Jun 2025) EndedAt: 2025-06-26 22:50:33 -0000 (Thu, 26 Jun 2025) EllapsedTime: 110.0 seconds RetCode: 0 Status: OK PackageFile: CPSM_1.1.2.tar.gz PackageFileSize: 3.822 MiB