Package: CPSM Version: 1.1.2 Command: F:\biocbuild\bbs-3.22-bioc\R\bin\R.exe CMD check --no-multiarch --install=check:CPSM.install-out.txt --library=F:\biocbuild\bbs-3.22-bioc\R\library --no-vignettes --timings CPSM_1.1.2.tar.gz StartedAt: 2025-06-30 00:44:07 -0400 (Mon, 30 Jun 2025) EndedAt: 2025-06-30 00:50:07 -0400 (Mon, 30 Jun 2025) EllapsedTime: 360.6 seconds RetCode: 0 Status: OK CheckDir: CPSM.Rcheck Warnings: 0