Package: CPSM Version: 1.1.2 Command: chmod a+r CPSM -R && F:\biocbuild\bbs-3.22-bioc\R\bin\R.exe CMD build --keep-empty-dirs --no-resave-data CPSM StartedAt: 2025-06-29 18:13:58 -0400 (Sun, 29 Jun 2025) EndedAt: 2025-06-29 18:15:51 -0400 (Sun, 29 Jun 2025) EllapsedTime: 112.9 seconds RetCode: 0 Status: OK PackageFile: CPSM_1.1.2.tar.gz PackageFileSize: 3.697 MiB