############################################################################## ############################################################################## ### ### Running command: ### ### rm -rf CPSM.buildbin-libdir && mkdir CPSM.buildbin-libdir && /Users/biocbuild/BBS/utils/build-universal.sh CPSM_1.1.2.tar.gz /Library/Frameworks/R.framework/Resources/bin/R CPSM.buildbin-libdir ### ############################################################################## ############################################################################## >>>>>>> >>>>>>> INSTALLATION WITH 'R CMD INSTALL --preclean --no-multiarch --library=CPSM.buildbin-libdir CPSM_1.1.2.tar.gz' >>>>>>> * installing *source* package ‘CPSM’ ... ** this is package ‘CPSM’ version ‘1.1.2’ ** using staged installation ** R ** data ** inst ** byte-compile and prepare package for lazy loading ** help *** installing help indices ** building package indices ** installing vignettes ** testing if installed package can be loaded from temporary location ** testing if installed package can be loaded from final location ** testing if installed package keeps a record of temporary installation path * DONE (CPSM)