Package: COTAN Version: 2.9.4 Command: /home/biocbuild/R/R/bin/R CMD INSTALL COTAN StartedAt: 2025-07-14 21:13:20 -0000 (Mon, 14 Jul 2025) EndedAt: 2025-07-14 21:14:20 -0000 (Mon, 14 Jul 2025) EllapsedTime: 60.2 seconds RetCode: 0 Status: OK