Package: COTAN Version: 2.9.4 Command: /home/biocbuild/R/R/bin/R CMD check --install=check:COTAN.install-out.txt --library=/home/biocbuild/R/R/site-library --no-vignettes --timings COTAN_2.9.4.tar.gz StartedAt: 2025-07-15 06:11:50 -0000 (Tue, 15 Jul 2025) EndedAt: 2025-07-15 06:35:01 -0000 (Tue, 15 Jul 2025) EllapsedTime: 1391.2 seconds RetCode: 0 Status: OK CheckDir: COTAN.Rcheck Warnings: 0