Package: COTAN Version: 2.9.4 Command: /home/biocbuild/R/R/bin/R CMD build --keep-empty-dirs --no-resave-data COTAN StartedAt: 2025-07-14 22:49:50 -0000 (Mon, 14 Jul 2025) EndedAt: 2025-07-14 22:58:31 -0000 (Mon, 14 Jul 2025) EllapsedTime: 520.9 seconds RetCode: 0 Status: OK PackageFile: COTAN_2.9.4.tar.gz PackageFileSize: 2.425 MiB