Package: CONSTANd Version: 1.17.0 Command: /home/biocbuild/R/R/bin/R CMD check --install=check:CONSTANd.install-out.txt --library=/home/biocbuild/R/R/site-library --no-vignettes --timings CONSTANd_1.17.0.tar.gz StartedAt: 2025-10-07 06:37:46 -0000 (Tue, 07 Oct 2025) EndedAt: 2025-10-07 06:38:00 -0000 (Tue, 07 Oct 2025) EllapsedTime: 14.0 seconds RetCode: 0 Status: OK CheckDir: CONSTANd.Rcheck Warnings: 0