Package: CONSTANd Version: 1.17.0 Command: F:\biocbuild\bbs-3.22-bioc\R\bin\R.exe CMD check --no-multiarch --install=check:CONSTANd.install-out.txt --library=F:\biocbuild\bbs-3.22-bioc\R\library --no-vignettes --timings CONSTANd_1.17.0.tar.gz StartedAt: 2025-08-15 01:56:08 -0400 (Fri, 15 Aug 2025) EndedAt: 2025-08-15 01:56:33 -0400 (Fri, 15 Aug 2025) EllapsedTime: 25.1 seconds RetCode: 0 Status: OK CheckDir: CONSTANd.Rcheck Warnings: 0