Package: CONSTANd Version: 1.17.0 Command: /home/biocbuild/bbs-3.22-bioc/R/bin/R CMD INSTALL CONSTANd StartedAt: 2025-10-06 15:01:45 -0400 (Mon, 06 Oct 2025) EndedAt: 2025-10-06 15:01:48 -0400 (Mon, 06 Oct 2025) EllapsedTime: 3.8 seconds RetCode: 0 Status: OK