Package: CONSTANd Version: 1.17.0 Command: /home/biocbuild/bbs-3.22-bioc/R/bin/R CMD check --install=check:CONSTANd.install-out.txt --library=/home/biocbuild/bbs-3.22-bioc/R/site-library --timings CONSTANd_1.17.0.tar.gz StartedAt: 2025-10-06 22:32:29 -0400 (Mon, 06 Oct 2025) EndedAt: 2025-10-06 22:32:50 -0400 (Mon, 06 Oct 2025) EllapsedTime: 21.0 seconds RetCode: 0 Status: OK CheckDir: CONSTANd.Rcheck Warnings: 0