Package: CONSTANd Version: 1.17.0 Command: /Library/Frameworks/R.framework/Resources/bin/R CMD check --install=check:CONSTANd.install-out.txt --library=/Library/Frameworks/R.framework/Resources/library --no-vignettes --timings CONSTANd_1.17.0.tar.gz StartedAt: 2025-10-07 20:49:08 -0400 (Tue, 07 Oct 2025) EndedAt: 2025-10-07 20:49:33 -0400 (Tue, 07 Oct 2025) EllapsedTime: 25.3 seconds RetCode: 0 Status: OK CheckDir: CONSTANd.Rcheck Warnings: 0