Package: CONSTANd Version: 1.17.0 Command: /Library/Frameworks/R.framework/Resources/bin/R CMD build --keep-empty-dirs --no-resave-data CONSTANd StartedAt: 2025-10-07 16:32:14 -0400 (Tue, 07 Oct 2025) EndedAt: 2025-10-07 16:32:29 -0400 (Tue, 07 Oct 2025) EllapsedTime: 14.9 seconds RetCode: 0 Status: OK PackageFile: CONSTANd_1.17.0.tar.gz PackageFileSize: 1.696 MiB