Package: CONSTANd Version: 1.17.0 Command: /Library/Frameworks/R.framework/Resources/bin/R CMD INSTALL CONSTANd StartedAt: 2025-10-06 15:01:24 -0400 (Mon, 06 Oct 2025) EndedAt: 2025-10-06 15:01:25 -0400 (Mon, 06 Oct 2025) EllapsedTime: 1.5 seconds RetCode: 0 Status: OK