Package: CONSTANd Version: 1.17.0 Command: /Library/Frameworks/R.framework/Resources/bin/R CMD build --keep-empty-dirs --no-resave-data CONSTANd StartedAt: 2025-10-06 16:00:47 -0400 (Mon, 06 Oct 2025) EndedAt: 2025-10-06 16:00:52 -0400 (Mon, 06 Oct 2025) EllapsedTime: 5.1 seconds RetCode: 0 Status: OK PackageFile: CONSTANd_1.17.0.tar.gz PackageFileSize: 1.696 MiB