Package: CODEX Version: 1.41.0 Command: /Library/Frameworks/R.framework/Resources/bin/R CMD build --keep-empty-dirs --no-resave-data CODEX StartedAt: 2025-07-14 15:55:59 -0400 (Mon, 14 Jul 2025) EndedAt: 2025-07-14 15:56:39 -0400 (Mon, 14 Jul 2025) EllapsedTime: 40.5 seconds RetCode: 0 Status: OK PackageFile: CODEX_1.41.0.tar.gz PackageFileSize: 913.3 KiB