Package: CODEX Version: 1.41.0 Command: rm -rf CODEX.buildbin-libdir && mkdir CODEX.buildbin-libdir && /Users/biocbuild/BBS/utils/build-universal.sh CODEX_1.41.0.tar.gz /Library/Frameworks/R.framework/Resources/bin/R CODEX.buildbin-libdir StartedAt: 2025-07-14 22:14:44 -0400 (Mon, 14 Jul 2025) EndedAt: 2025-07-14 22:14:59 -0400 (Mon, 14 Jul 2025) EllapsedTime: 15.3 seconds RetCode: 0 Status: OK PackageFile: CODEX_1.41.0.tgz PackageFileSize: 1.324 MiB