Package: COCOA Version: 2.23.1 Command: chmod a+r COCOA -R && F:\biocbuild\bbs-3.22-bioc\R\bin\R.exe CMD build --keep-empty-dirs --no-resave-data COCOA StartedAt: 2025-07-14 18:06:42 -0400 (Mon, 14 Jul 2025) EndedAt: 2025-07-14 18:09:11 -0400 (Mon, 14 Jul 2025) EllapsedTime: 148.3 seconds RetCode: 0 Status: OK PackageFile: COCOA_2.23.1.tar.gz PackageFileSize: 2.675 MiB