Package: COCOA Version: 2.23.1 Command: rm -rf COCOA.buildbin-libdir && mkdir COCOA.buildbin-libdir && F:\biocbuild\bbs-3.22-bioc\R\bin\R.exe CMD INSTALL --build --library=COCOA.buildbin-libdir COCOA_2.23.1.tar.gz StartedAt: 2025-07-15 08:40:17 -0400 (Tue, 15 Jul 2025) EndedAt: 2025-07-15 08:41:13 -0400 (Tue, 15 Jul 2025) EllapsedTime: 56.8 seconds RetCode: 0 Status: OK PackageFile: COCOA_2.23.1.zip PackageFileSize: 2.775 MiB