Package: COCOA Version: 2.23.1 Maintainer: John Lawson MaintainerEmail: jtl2hk at virginia.edu git_url: https://git.bioconductor.org/packages/COCOA git_branch: devel git_last_commit: 674c346 git_last_commit_date: 2025-06-25 17:28:47 -0400 (Wed, 25 Jun 2025)