Package: CNVrd2 Version: 1.47.0 Command: F:\biocbuild\bbs-3.22-bioc\R\bin\R.exe CMD INSTALL CNVrd2 StartedAt: 2025-06-29 16:42:20 -0400 (Sun, 29 Jun 2025) EndedAt: 2025-06-29 16:43:16 -0400 (Sun, 29 Jun 2025) EllapsedTime: 55.4 seconds RetCode: 0 Status: OK