Package: CNVrd2 Version: 1.47.0 Command: F:\biocbuild\bbs-3.22-bioc\R\bin\R.exe CMD check --no-multiarch --install=check:CNVrd2.install-out.txt --library=F:\biocbuild\bbs-3.22-bioc\R\library --no-vignettes --timings CNVrd2_1.47.0.tar.gz StartedAt: 2025-07-01 00:40:24 -0400 (Tue, 01 Jul 2025) EndedAt: 2025-07-01 00:43:44 -0400 (Tue, 01 Jul 2025) EllapsedTime: 200.1 seconds RetCode: 0 Status: OK CheckDir: CNVrd2.Rcheck Warnings: 0