Package: CNVrd2 Version: 1.47.0 Command: chmod a+r CNVrd2 -R && F:\biocbuild\bbs-3.22-bioc\R\bin\R.exe CMD build --keep-empty-dirs --no-resave-data CNVrd2 StartedAt: 2025-06-29 18:07:28 -0400 (Sun, 29 Jun 2025) EndedAt: 2025-06-29 18:09:15 -0400 (Sun, 29 Jun 2025) EllapsedTime: 106.9 seconds RetCode: 0 Status: OK PackageFile: CNVrd2_1.47.0.tar.gz PackageFileSize: 2.54 MiB