Package: CNViz Version: 1.17.0 Command: F:\biocbuild\bbs-3.22-bioc\R\bin\R.exe CMD INSTALL CNViz StartedAt: 2025-07-24 17:06:22 -0400 (Thu, 24 Jul 2025) EndedAt: 2025-07-24 17:07:17 -0400 (Thu, 24 Jul 2025) EllapsedTime: 55.5 seconds RetCode: 0 Status: OK