Package: CNViz Version: 1.17.0 Command: /Library/Frameworks/R.framework/Resources/bin/R CMD INSTALL CNViz StartedAt: 2025-07-14 15:23:51 -0400 (Mon, 14 Jul 2025) EndedAt: 2025-07-14 15:24:11 -0400 (Mon, 14 Jul 2025) EllapsedTime: 19.4 seconds RetCode: 0 Status: OK