Package: CNViz Version: 1.17.0 Command: /Library/Frameworks/R.framework/Resources/bin/R CMD check --install=check:CNViz.install-out.txt --library=/Library/Frameworks/R.framework/Resources/library --no-vignettes --timings CNViz_1.17.0.tar.gz StartedAt: 2025-07-14 18:36:11 -0400 (Mon, 14 Jul 2025) EndedAt: 2025-07-14 18:38:12 -0400 (Mon, 14 Jul 2025) EllapsedTime: 121.5 seconds RetCode: 0 Status: OK CheckDir: CNViz.Rcheck Warnings: 0