Package: CNViz Version: 1.17.0 Command: /Library/Frameworks/R.framework/Resources/bin/R CMD build --keep-empty-dirs --no-resave-data CNViz StartedAt: 2025-07-14 15:55:29 -0400 (Mon, 14 Jul 2025) EndedAt: 2025-07-14 15:55:56 -0400 (Mon, 14 Jul 2025) EllapsedTime: 26.3 seconds RetCode: 0 Status: OK PackageFile: CNViz_1.17.0.tar.gz PackageFileSize: 115.8 KiB