Package: CNVRanger Version: 1.25.4 Command: /home/biocbuild/R/R/bin/R CMD check --install=check:CNVRanger.install-out.txt --library=/home/biocbuild/R/R/site-library --no-vignettes --timings CNVRanger_1.25.4.tar.gz StartedAt: 2025-07-01 06:01:25 -0000 (Tue, 01 Jul 2025) EndedAt: 2025-07-01 06:06:26 -0000 (Tue, 01 Jul 2025) EllapsedTime: 301.2 seconds RetCode: 0 Status: OK CheckDir: CNVRanger.Rcheck Warnings: 0