Package: CNVRanger Version: 1.25.4 Command: /Library/Frameworks/R.framework/Resources/bin/R CMD INSTALL CNVRanger StartedAt: 2025-07-22 15:12:56 -0400 (Tue, 22 Jul 2025) EndedAt: 2025-07-22 15:13:06 -0400 (Tue, 22 Jul 2025) EllapsedTime: 9.8 seconds RetCode: 0 Status: OK