Package: CNVRanger Version: 1.25.4 Command: /Library/Frameworks/R.framework/Resources/bin/R CMD check --install=check:CNVRanger.install-out.txt --library=/Library/Frameworks/R.framework/Resources/library --no-vignettes --timings CNVRanger_1.25.4.tar.gz StartedAt: 2025-07-22 18:37:23 -0400 (Tue, 22 Jul 2025) EndedAt: 2025-07-22 18:39:05 -0400 (Tue, 22 Jul 2025) EllapsedTime: 101.2 seconds RetCode: 0 Status: OK CheckDir: CNVRanger.Rcheck Warnings: 0