Package: CNVRanger Version: 1.25.4 Command: /Library/Frameworks/R.framework/Resources/bin/R CMD build --keep-empty-dirs --no-resave-data CNVRanger StartedAt: 2025-07-22 15:55:25 -0400 (Tue, 22 Jul 2025) EndedAt: 2025-07-22 15:56:50 -0400 (Tue, 22 Jul 2025) EllapsedTime: 85.0 seconds RetCode: 0 Status: OK PackageFile: CNVRanger_1.25.4.tar.gz PackageFileSize: 1.958 MiB